BEGIN:VCALENDAR
VERSION:2.0
PRODID:-//wp-events-plugin.com//6.4.7.2//EN
TZID:Europe/Paris
X-WR-TIMEZONE:Europe/Paris
BEGIN:VEVENT
UID:121@sudeducation13.org
DTSTART;TZID=Europe/Paris;VALUE=DATE:20240314
DTEND;TZID=Europe/Paris;VALUE=DATE:20240315
DTSTAMP:20240205T132141Z
URL:https://www.sudeducation13.org/events/stage-upe2a-2/
SUMMARY:Stage UPE2A
DESCRIPTION:
END:VEVENT
BEGIN:VTIMEZONE
TZID:Europe/Paris
X-LIC-LOCATION:Europe/Paris
BEGIN:STANDARD
DTSTART:20231029T020000
TZOFFSETFROM:+0200
TZOFFSETTO:+0100
TZNAME:CET
END:STANDARD
END:VTIMEZONE
END:VCALENDAR