BEGIN:VCALENDAR
VERSION:2.0
PRODID:-//wp-events-plugin.com//6.4.7.2//EN
TZID:Europe/Paris
X-WR-TIMEZONE:Europe/Paris
BEGIN:VEVENT
UID:72@sudeducation13.org
DTSTART;TZID=Europe/Paris:20230414T090000
DTEND;TZID=Europe/Paris:20230414T163000
DTSTAMP:20230322T162925Z
URL:https://www.sudeducation13.org/events/stage-syndical-aed-defendre-ses-
 droits-en-gagner-de-nouveaux/
SUMMARY:Stage syndical AED - Défendre ses droits\, en gagner de nouveaux
DESCRIPTION:Programme du stage : https://www.sudeducation13.org/stages-a-de
 stination-des-aesh-11-avril-2023-et-des-aed-14-avril-2023/
END:VEVENT
BEGIN:VTIMEZONE
TZID:Europe/Paris
X-LIC-LOCATION:Europe/Paris
BEGIN:DAYLIGHT
DTSTART:20230326T030000
TZOFFSETFROM:+0100
TZOFFSETTO:+0200
TZNAME:CEST
END:DAYLIGHT
END:VTIMEZONE
END:VCALENDAR