BEGIN:VCALENDAR
VERSION:2.0
PRODID:-//wp-events-plugin.com//6.4.7.2//EN
TZID:Europe/Paris
X-WR-TIMEZONE:Europe/Paris
BEGIN:VEVENT
UID:28@sudeducation13.org
DTSTART;TZID=Europe/Paris:20230126T120000
DTEND;TZID=Europe/Paris:20230126T133000
DTSTAMP:20230125T095906Z
URL:https://www.sudeducation13.org/events/ris-secteur-marseille-1-2-3-12h/
SUMMARY:RIS secteur Marseille 1/2/3 - 12h
DESCRIPTION:Infos\n
LOCATION:Ecole Saint Charles 2\,  36 Rue du 141ème RIA\, Marseille\, 13003
 \, France
X-APPLE-STRUCTURED-LOCATION;VALUE=URI;X-ADDRESS= 36 Rue du 141ème RIA\, Ma
 rseille\, 13003\, France;X-APPLE-RADIUS=100;X-TITLE=Ecole Saint Charles 2:
 geo:0,0
END:VEVENT
BEGIN:VTIMEZONE
TZID:Europe/Paris
X-LIC-LOCATION:Europe/Paris
BEGIN:STANDARD
DTSTART:20221030T020000
TZOFFSETFROM:+0200
TZOFFSETTO:+0100
TZNAME:CET
END:STANDARD
END:VTIMEZONE
END:VCALENDAR