BEGIN:VCALENDAR
VERSION:2.0
PRODID:-//wp-events-plugin.com//6.4.7.2//EN
TZID:Europe/Paris
X-WR-TIMEZONE:Europe/Paris
BEGIN:VEVENT
UID:124@sudeducation13.org
DTSTART;TZID=Europe/Paris:20240221T083000
DTEND;TZID=Europe/Paris:20240221T120000
DTSTAMP:20240220T190323Z
URL:https://www.sudeducation13.org/events/rassemblement-pour-des-moyens-po
 ur-lecole-publique-des-8h30/
SUMMARY:Rassemblement pour des moyens pour l'école publique - dès 8h30
DESCRIPTION:\n\nInfos\n\n 	A partir de 8h30 pour les écoles concernées pa
 r les fermetures\n 	A partir de 10h pour toutes et tous\n\nhttps://www.sud
 education13.org/des-moyens-pour-lecole-publique/
LOCATION:DSDEN 13\, 28 Bd Charles Nédelec\, Marseille\, 13001\, France
X-APPLE-STRUCTURED-LOCATION;VALUE=URI;X-ADDRESS=28 Bd Charles Nédelec\, Ma
 rseille\, 13001\, France;X-APPLE-RADIUS=100;X-TITLE=DSDEN 13:geo:0,0
END:VEVENT
BEGIN:VTIMEZONE
TZID:Europe/Paris
X-LIC-LOCATION:Europe/Paris
BEGIN:STANDARD
DTSTART:20231029T020000
TZOFFSETFROM:+0200
TZOFFSETTO:+0100
TZNAME:CET
END:STANDARD
END:VTIMEZONE
END:VCALENDAR