BEGIN:VCALENDAR
VERSION:2.0
PRODID:-//wp-events-plugin.com//6.4.7.2//EN
TZID:Europe/Paris
X-WR-TIMEZONE:Europe/Paris
BEGIN:VEVENT
UID:148@sudeducation13.org
DTSTART;TZID=Europe/Paris:20240619T140000
DTEND;TZID=Europe/Paris:20240619T140000
DTSTAMP:20240618T102122Z
URL:https://www.sudeducation13.org/events/rassemblement-anti-repression-a-
 lamu/
SUMMARY:Rassemblement anti-répression à l'AMU
DESCRIPTION:Grève contre la répression des étudiant·es pour la Palestin
 e\n\nRassemblement contre la répression visant des étudiantEs ayant trac
 té contre les liens d'AMU avec l'armée et le génocide en Palestine.\n\n
 &nbsp\;\n\nhttps://www.sudeducation13.org/mobilisation-a-luniversite-non-a
 -la-restriction-de-la-liberte-dexpression-oui-a-labandon-des-procedures-di
 sciplinaires-contre-nos-etudiant-es/
LOCATION:Le Pharo\, Pharo\, Marseille\, France
X-APPLE-STRUCTURED-LOCATION;VALUE=URI;X-ADDRESS=Pharo\, Marseille\, France;
 X-APPLE-RADIUS=100;X-TITLE=Le Pharo:geo:0,0
END:VEVENT
BEGIN:VTIMEZONE
TZID:Europe/Paris
X-LIC-LOCATION:Europe/Paris
BEGIN:DAYLIGHT
DTSTART:20240331T030000
TZOFFSETFROM:+0100
TZOFFSETTO:+0200
TZNAME:CEST
END:DAYLIGHT
END:VTIMEZONE
END:VCALENDAR