BEGIN:VCALENDAR
VERSION:2.0
PRODID:-//wp-events-plugin.com//6.4.7.2//EN
TZID:Europe/Paris
X-WR-TIMEZONE:Europe/Paris
BEGIN:VEVENT
UID:137@sudeducation13.org
DTSTART;TZID=Europe/Paris:20240525T140000
DTEND;TZID=Europe/Paris:20240525T190000
DTSTAMP:20240514T130617Z
URL:https://www.sudeducation13.org/events/non-au-choc-des-savoirs-journee-
 nationale-de-mobilisation-le-samedi-25-mai-pour-lecole-publique/
SUMMARY:Non au « Choc des savoirs » | journée nationale de mobilisat
 ion le samedi 25 mai pour l’École publique !
DESCRIPTION:\nParentEs\, EnseignantEs\, EtudiantEs\n\nRendez-vous à 14h à
  la gare Saint Charles (Marseille) pour l'école publique\nLire l'appel in
 tersyndical national\n&nbsp\;\n\n&nbsp\;\n\n&nbsp\;
END:VEVENT
BEGIN:VTIMEZONE
TZID:Europe/Paris
X-LIC-LOCATION:Europe/Paris
BEGIN:DAYLIGHT
DTSTART:20240331T030000
TZOFFSETFROM:+0100
TZOFFSETTO:+0200
TZNAME:CEST
END:DAYLIGHT
END:VTIMEZONE
END:VCALENDAR