BEGIN:VCALENDAR
VERSION:2.0
PRODID:-//wp-events-plugin.com//6.4.7.2//EN
TZID:Europe/Paris
X-WR-TIMEZONE:Europe/Paris
BEGIN:VEVENT
UID:29@sudeducation13.org
DTSTART;TZID=Europe/Paris:20230127T180000
DTEND;TZID=Europe/Paris:20230127T200000
DTSTAMP:20230125T101128Z
URL:https://www.sudeducation13.org/events/marche-au-flambeau-education-18h
 /
SUMMARY:Marche au flambeau éducation - 18h
DESCRIPTION:
LOCATION:Mobiles - Canebière\, Canebière\, Marseille\, 13001\, France
X-APPLE-STRUCTURED-LOCATION;VALUE=URI;X-ADDRESS=Canebière\, Marseille\, 13
 001\, France;X-APPLE-RADIUS=100;X-TITLE=Mobiles - Canebière:geo:0,0
END:VEVENT
BEGIN:VTIMEZONE
TZID:Europe/Paris
X-LIC-LOCATION:Europe/Paris
BEGIN:STANDARD
DTSTART:20221030T020000
TZOFFSETFROM:+0200
TZOFFSETTO:+0100
TZNAME:CET
END:STANDARD
END:VTIMEZONE
END:VCALENDAR