BEGIN:VCALENDAR
VERSION:2.0
PRODID:-//wp-events-plugin.com//6.4.7.2//EN
TZID:Europe/Paris
X-WR-TIMEZONE:Europe/Paris
BEGIN:VEVENT
UID:39@sudeducation13.org
DTSTART;TZID=Europe/Paris:20230211T140000
DTEND;TZID=Europe/Paris:20230211T180000
DTSTAMP:20230209T075648Z
URL:https://www.sudeducation13.org/events/manifestation-interprofessionnel
 le-retraites-14h/
SUMMARY:Manifestation interprofessionnelle - Retraites - 14h
DESCRIPTION:
LOCATION:La Rotonde\, Place de la Rotonde\, Aix-en-Provence\, 13800\, Franc
 e
X-APPLE-STRUCTURED-LOCATION;VALUE=URI;X-ADDRESS=Place de la Rotonde\, Aix-e
 n-Provence\, 13800\, France;X-APPLE-RADIUS=100;X-TITLE=La Rotonde:geo:0,0
END:VEVENT
BEGIN:VTIMEZONE
TZID:Europe/Paris
X-LIC-LOCATION:Europe/Paris
BEGIN:STANDARD
DTSTART:20221030T020000
TZOFFSETFROM:+0200
TZOFFSETTO:+0100
TZNAME:CET
END:STANDARD
END:VTIMEZONE
END:VCALENDAR