BEGIN:VCALENDAR
VERSION:2.0
PRODID:-//wp-events-plugin.com//6.4.7.2//EN
TZID:Europe/Paris
X-WR-TIMEZONE:Europe/Paris
BEGIN:VEVENT
UID:93@sudeducation13.org
DTSTART;TZID=Europe/Paris:20231013T110000
DTEND;TZID=Europe/Paris:20231013T140000
DTSTAMP:20231009T083821Z
URL:https://www.sudeducation13.org/events/greve-rassemblement-interprofess
 ionnel-11h/
SUMMARY:Grève & Rassemblement interprofessionnel- 11h
DESCRIPTION:
LOCATION:Mairie de Salon\, 174 place de l'hôtel de ville\, Salon-de-Proven
 ce\, 13300\, France
X-APPLE-STRUCTURED-LOCATION;VALUE=URI;X-ADDRESS=174 place de l'hôtel de vi
 lle\, Salon-de-Provence\, 13300\, France;X-APPLE-RADIUS=100;X-TITLE=Mairie
  de Salon:geo:0,0
END:VEVENT
BEGIN:VTIMEZONE
TZID:Europe/Paris
X-LIC-LOCATION:Europe/Paris
BEGIN:DAYLIGHT
DTSTART:20230326T030000
TZOFFSETFROM:+0100
TZOFFSETTO:+0200
TZNAME:CEST
END:DAYLIGHT
END:VTIMEZONE
END:VCALENDAR