BEGIN:VCALENDAR
VERSION:2.0
PRODID:-//wp-events-plugin.com//6.4.7.2//EN
TZID:Europe/Paris
X-WR-TIMEZONE:Europe/Paris
BEGIN:VEVENT
UID:46@sudeducation13.org
DTSTART;TZID=Europe/Paris:20230302T120000
DTEND;TZID=Europe/Paris:20230302T140000
DTSTAMP:20230302T082922Z
URL:https://www.sudeducation13.org/events/assemblee-generale-secteur-1-2-3
 -12h/
SUMMARY:Assemblée Générale - Secteur 1/2/3 - 12h
DESCRIPTION:
LOCATION:Ecole National\, 179 Boulevard National\, Marseille\, 13003\, Fran
 ce
X-APPLE-STRUCTURED-LOCATION;VALUE=URI;X-ADDRESS=179 Boulevard National\, Ma
 rseille\, 13003\, France;X-APPLE-RADIUS=100;X-TITLE=Ecole National:geo:0,0
END:VEVENT
BEGIN:VTIMEZONE
TZID:Europe/Paris
X-LIC-LOCATION:Europe/Paris
BEGIN:STANDARD
DTSTART:20221030T020000
TZOFFSETFROM:+0200
TZOFFSETTO:+0100
TZNAME:CET
END:STANDARD
END:VTIMEZONE
END:VCALENDAR