BEGIN:VCALENDAR
VERSION:2.0
PRODID:-//wp-events-plugin.com//6.4.7.2//EN
TZID:Europe/Paris
X-WR-TIMEZONE:Europe/Paris
BEGIN:VEVENT
UID:23@sudeducation13.org
DTSTART;TZID=Europe/Paris:20230126T180000
DTEND;TZID=Europe/Paris:20230126T180000
DTSTAMP:20230124T173410Z
URL:https://www.sudeducation13.org/events/assemblee-generale-education-sec
 teur-martigues-18h/
SUMMARY:Assemblée Générale éducation Retraites - Secteur Martigues - 18
 h
DESCRIPTION:
LOCATION:Maison des syndicats\, 1 allée Benoît Frachon\, Martigues\, 1350
 0\, France
X-APPLE-STRUCTURED-LOCATION;VALUE=URI;X-ADDRESS=1 allée Benoît Frachon\, 
 Martigues\, 13500\, France;X-APPLE-RADIUS=100;X-TITLE=Maison des syndicats
 :geo:0,0
END:VEVENT
BEGIN:VTIMEZONE
TZID:Europe/Paris
X-LIC-LOCATION:Europe/Paris
BEGIN:STANDARD
DTSTART:20221030T020000
TZOFFSETFROM:+0200
TZOFFSETTO:+0100
TZNAME:CET
END:STANDARD
END:VTIMEZONE
END:VCALENDAR