BEGIN:VCALENDAR
VERSION:2.0
PRODID:-//wp-events-plugin.com//6.4.7.2//EN
TZID:Europe/Paris
X-WR-TIMEZONE:Europe/Paris
BEGIN:VEVENT
UID:24@sudeducation13.org
DTSTART;TZID=Europe/Paris:20230127T000000
DTEND;TZID=Europe/Paris:20230127T000000
DTSTAMP:20230125T101002Z
URL:https://www.sudeducation13.org/events/assemblee-generale-education-sec
 teur-marseille-13-14-12h/
SUMMARY:Assemblée Générale éducation Retraites - Secteur Marseille 13/1
 4 - 12h
DESCRIPTION:Infos\n
LOCATION:Centre Sociale Agora - Busserine\, 34 Rue de la Busserine\, Marsei
 lle\, 13014\, France
X-APPLE-STRUCTURED-LOCATION;VALUE=URI;X-ADDRESS=34 Rue de la Busserine\, Ma
 rseille\, 13014\, France;X-APPLE-RADIUS=100;X-TITLE=Centre Sociale Agora -
  Busserine:geo:0,0
END:VEVENT
BEGIN:VTIMEZONE
TZID:Europe/Paris
X-LIC-LOCATION:Europe/Paris
BEGIN:STANDARD
DTSTART:20221030T020000
TZOFFSETFROM:+0200
TZOFFSETTO:+0100
TZNAME:CET
END:STANDARD
END:VTIMEZONE
END:VCALENDAR