BEGIN:VCALENDAR
VERSION:2.0
PRODID:-//wp-events-plugin.com//6.4.7.2//EN
TZID:Europe/Paris
X-WR-TIMEZONE:Europe/Paris
BEGIN:VEVENT
UID:21@sudeducation13.org
DTSTART;TZID=Europe/Paris:20230119T140000
DTEND;TZID=Europe/Paris:20230119T160000
DTSTAMP:20230118T195447Z
URL:https://www.sudeducation13.org/events/ag-intersyndicale-education-14h/
SUMMARY:AG intersyndicale éducation - Mobilisation Retraites |14h
DESCRIPTION:Infos\n
LOCATION:Bourse du travail Nédelec\, 23 boulevard Nédelec\, Marseille\, 1
 3003\, France
X-APPLE-STRUCTURED-LOCATION;VALUE=URI;X-ADDRESS=23 boulevard Nédelec\, Mar
 seille\, 13003\, France;X-APPLE-RADIUS=100;X-TITLE=Bourse du travail Néde
 lec:geo:0,0
END:VEVENT
BEGIN:VTIMEZONE
TZID:Europe/Paris
X-LIC-LOCATION:Europe/Paris
BEGIN:STANDARD
DTSTART:20221030T020000
TZOFFSETFROM:+0200
TZOFFSETTO:+0100
TZNAME:CET
END:STANDARD
END:VTIMEZONE
END:VCALENDAR