BEGIN:VCALENDAR
VERSION:2.0
PRODID:-//wp-events-plugin.com//6.4.7.2//EN
TZID:Europe/Paris
X-WR-TIMEZONE:Europe/Paris
BEGIN:VEVENT
UID:65@sudeducation13.org
DTSTART;TZID=Europe/Paris:20230314T063000
DTEND;TZID=Europe/Paris:20230314T083000
DTSTAMP:20230313T182739Z
URL:https://www.sudeducation13.org/events/action-education-6h30/
SUMMARY:Action éducation - 6h30
DESCRIPTION:
LOCATION:Parvis de la Gare Saint-Charles côté Facultés\, 3 place Victor 
 Hugo\, Marseille\, 13003\, France
X-APPLE-STRUCTURED-LOCATION;VALUE=URI;X-ADDRESS=3 place Victor Hugo\, Marse
 ille\, 13003\, France;X-APPLE-RADIUS=100;X-TITLE=Parvis de la Gare Saint-C
 harles côté Facultés:geo:0,0
END:VEVENT
BEGIN:VTIMEZONE
TZID:Europe/Paris
X-LIC-LOCATION:Europe/Paris
BEGIN:STANDARD
DTSTART:20221030T020000
TZOFFSETFROM:+0200
TZOFFSETTO:+0100
TZNAME:CET
END:STANDARD
END:VTIMEZONE
END:VCALENDAR