BEGIN:VCALENDAR
VERSION:2.0
PRODID:-//wp-events-plugin.com//6.4.7.2//EN
TZID:Europe/Paris
X-WR-TIMEZONE:Europe/Paris
BEGIN:VEVENT
UID:8@sudeducation13.org
DTSTART;TZID=Europe/Paris:20221116T120000
DTEND;TZID=Europe/Paris:20221207T120000
DTSTAMP:20221121T211454Z
URL:https://www.sudeducation13.org/events/1er-degre-debut-du-mouvement-int
 er-departemental/
SUMMARY:1er degré / Début du mouvement inter-départemental
DESCRIPTION:[embed]https://www.sudeducation13.org/mouvement-dans-le-1er-deg
 re-tout-ce-quil-faut-savoir/[/embed]
END:VEVENT
BEGIN:VTIMEZONE
TZID:Europe/Paris
X-LIC-LOCATION:Europe/Paris
BEGIN:STANDARD
DTSTART:20221030T020000
TZOFFSETFROM:+0200
TZOFFSETTO:+0100
TZNAME:CET
END:STANDARD
END:VTIMEZONE
END:VCALENDAR